BEGIN:VCALENDAR
VERSION:2.0
PRODID:-//Orange County Base Hospital Coordinators - ECPv6.15.20//NONSGML v1.0//EN
CALSCALE:GREGORIAN
METHOD:PUBLISH
X-WR-CALNAME:Orange County Base Hospital Coordinators
X-ORIGINAL-URL:http://ocbhc.com
X-WR-CALDESC:Events for Orange County Base Hospital Coordinators
REFRESH-INTERVAL;VALUE=DURATION:PT1H
X-Robots-Tag:noindex
X-PUBLISHED-TTL:PT1H
BEGIN:VTIMEZONE
TZID:UTC
BEGIN:STANDARD
TZOFFSETFROM:+0000
TZOFFSETTO:+0000
TZNAME:UTC
DTSTART:20250101T000000
END:STANDARD
END:VTIMEZONE
BEGIN:VEVENT
DTSTART;TZID=UTC:20260317T090000
DTEND;TZID=UTC:20260317T100000
DTSTAMP:20260417T204718
CREATED:20260203T211830Z
LAST-MODIFIED:20260203T211832Z
UID:935-1773738000-1773741600@ocbhc.com
SUMMARY:UCI REAC
DESCRIPTION:
URL:http://ocbhc.com/event/uci-reac/
LOCATION:California
END:VEVENT
BEGIN:VEVENT
DTSTART;TZID=UTC:20260319T090000
DTEND;TZID=UTC:20260319T100000
DTSTAMP:20260417T204718
CREATED:20260203T211907Z
LAST-MODIFIED:20260203T211908Z
UID:937-1773910800-1773914400@ocbhc.com
SUMMARY:St Jude REAC
DESCRIPTION:
URL:http://ocbhc.com/event/st-jude-reac/
LOCATION:California
END:VEVENT
BEGIN:VEVENT
DTSTART;TZID=UTC:20260319T090000
DTEND;TZID=UTC:20260319T100000
DTSTAMP:20260417T204718
CREATED:20260226T213428Z
LAST-MODIFIED:20260226T213431Z
UID:966-1773910800-1773914400@ocbhc.com
SUMMARY:St Jude REAC
DESCRIPTION:
URL:http://ocbhc.com/event/st-jude-reac-2/
LOCATION:Via Teams (Internal)
END:VEVENT
BEGIN:VEVENT
DTSTART;TZID=UTC:20260331T090000
DTEND;TZID=UTC:20260331T100000
DTSTAMP:20260417T204718
CREATED:20260203T211953Z
LAST-MODIFIED:20260203T211954Z
UID:939-1774947600-1774951200@ocbhc.com
SUMMARY:Huntington Beach REAC
DESCRIPTION:
URL:http://ocbhc.com/event/huntington-beach-reac/
LOCATION:California
END:VEVENT
END:VCALENDAR